BEGIN:VCALENDAR
VERSION:2.0
PRODID:spatie/icalendar-generator
DESCRIPTION:Veranstaltungen von Evangelisch im Maifeld
X-WR-CALDESC:Veranstaltungen von Evangelisch im Maifeld
REFRESH-INTERVAL;VALUE=DURATION:PT1440M
X-PUBLISHED-TTL:PT1440M
BEGIN:VTIMEZONE
TZID:Etc/GMT-1
BEGIN:STANDARD
DTSTART:20230110T100000Z
TZOFFSETFROM:+0100
TZOFFSETTO:+0100
END:STANDARD
END:VTIMEZONE
BEGIN:VTIMEZONE
TZID:UTC
BEGIN:STANDARD
DTSTART:20250726T110936Z
TZOFFSETFROM:+0000
TZOFFSETTO:+0000
END:STANDARD
END:VTIMEZONE
BEGIN:VEVENT
UID:241-5
DTSTAMP:20260422T110936Z
SUMMARY:KiBiZ
LOCATION:Gemeindezentrum der ev. Kirche im Maifeld Uhlandstr. 9  Polch RLP 
 56751
ORGANIZER;CN=cs:MAILTO:c.j.schueler@outlook.de
DTSTART;TZID=Etc/GMT-1:20231007T100000
DTEND;TZID=Etc/GMT-1:20231007T150000
X-ALT-DESC;FMTTYPE=TEXT/HTML:<p>Kinderbibelzeit mit dem Team des KiBiZ und 
 Pfarrer Ingo Schrooten.</p>\n
CATEGORIES:Gottesdienste,  Gruppen
URL;VALUE=URI:https://www.evkm.org/mc-events/kibiz/
METHOD:PUBLISH
END:VEVENT
END:VCALENDAR