BEGIN:VCALENDAR
VERSION:2.0
PRODID:spatie/icalendar-generator
DESCRIPTION:Veranstaltungen von Evangelisch im Maifeld
X-WR-CALDESC:Veranstaltungen von Evangelisch im Maifeld
REFRESH-INTERVAL;VALUE=DURATION:PT1440M
X-PUBLISHED-TTL:PT1440M
BEGIN:VTIMEZONE
TZID:Etc/GMT-1
BEGIN:STANDARD
DTSTART:20240911T110000Z
TZOFFSETFROM:+0100
TZOFFSETTO:+0100
END:STANDARD
END:VTIMEZONE
BEGIN:VTIMEZONE
TZID:UTC
BEGIN:STANDARD
DTSTART:20250726T093904Z
TZOFFSETFROM:+0000
TZOFFSETTO:+0000
END:STANDARD
END:VTIMEZONE
BEGIN:VEVENT
UID:324-110
DTSTAMP:20260422T093904Z
SUMMARY:Konfirmationsgottesdienst
LOCATION:
ORGANIZER;CN=cs:MAILTO:c.j.schueler@outlook.de
DTSTART;TZID=Etc/GMT-1:20250608T110000
DTEND;TZID=Etc/GMT-1:20250608T120000
X-ALT-DESC;FMTTYPE=TEXT/HTML:<p>Gottesdienst anlässlich der Konfirmation i
 n der Stiftskirche in Münstermaifeld.</p>\n
CATEGORIES:Gottesdienste
URL;VALUE=URI:https://www.evkm.org/mc-events/konfirmationsgottesdienst/
METHOD:PUBLISH
END:VEVENT
END:VCALENDAR