BEGIN:VCALENDAR
VERSION:2.0
PRODID:spatie/icalendar-generator
DESCRIPTION:Veranstaltungen von Evangelisch im Maifeld
X-WR-CALDESC:Veranstaltungen von Evangelisch im Maifeld
REFRESH-INTERVAL;VALUE=DURATION:PT1440M
X-PUBLISHED-TTL:PT1440M
BEGIN:VTIMEZONE
TZID:Etc/GMT-1
BEGIN:STANDARD
DTSTART:20230623T193000Z
TZOFFSETFROM:+0100
TZOFFSETTO:+0100
END:STANDARD
END:VTIMEZONE
BEGIN:VTIMEZONE
TZID:UTC
BEGIN:STANDARD
DTSTART:20250728T214924Z
TZOFFSETFROM:+0000
TZOFFSETTO:+0000
END:STANDARD
END:VTIMEZONE
BEGIN:VEVENT
UID:3597-24
DTSTAMP:20260424T214924Z
SUMMARY:Presbyteriumssitzung
LOCATION:Gemeindezentrum der ev. Kirche im Maifeld Uhlandstr. 9  Polch RLP 
 56751
ORGANIZER;CN=cs:MAILTO:c.j.schueler@outlook.de
DTSTART;TZID=Etc/GMT-1:20240319T193000
DTEND;TZID=Etc/GMT-1:20240319T230000
X-ALT-DESC;FMTTYPE=TEXT/HTML:Die Sitzung des Presbyteriums. Sollten Sie wü
 nsche und Anliegen haben\, die im Presbyterium diskutiert werden sollen we
 nden Sie sich bitte an Herrn Christian Schüler christian.schueler@evangel
 isch-im-maifeld.de. &amp;nbsp\;
CATEGORIES:Gruppen
URL;VALUE=URI:https://www.evkm.org/mc-events/presbyteriumssitzung/
METHOD:PUBLISH
END:VEVENT
END:VCALENDAR