BEGIN:VCALENDAR
VERSION:2.0
PRODID:spatie/icalendar-generator
DESCRIPTION:Veranstaltungen von Evangelisch im Maifeld
X-WR-CALDESC:Veranstaltungen von Evangelisch im Maifeld
REFRESH-INTERVAL;VALUE=DURATION:PT1440M
X-PUBLISHED-TTL:PT1440M
BEGIN:VTIMEZONE
TZID:Etc/GMT-1
BEGIN:STANDARD
DTSTART:20230728T170000Z
TZOFFSETFROM:+0100
TZOFFSETTO:+0100
END:STANDARD
END:VTIMEZONE
BEGIN:VTIMEZONE
TZID:UTC
BEGIN:STANDARD
DTSTART:20250726T135142Z
TZOFFSETFROM:+0000
TZOFFSETTO:+0000
END:STANDARD
END:VTIMEZONE
BEGIN:VEVENT
UID:4743-26
DTSTAMP:20260422T135142Z
SUMMARY:Konfiunterricht
LOCATION:Gemeindezentrum der ev. Kirche im Maifeld Uhlandstr. 9  Polch RLP 
 56751
ORGANIZER;CN=Philipp Albrecht:MAILTO:philipp.albrecht@ekir.de
RRULE:FREQ=WEEKLY;UNTIL=20240519T000000Z
DTSTART;TZID=Etc/GMT-1:20240423T170000
DTEND;TZID=Etc/GMT-1:20240423T190000
X-ALT-DESC;FMTTYPE=TEXT/HTML:
CATEGORIES:Gruppen
URL;VALUE=URI:https://www.evkm.org/mc-events/konfiunterricht-fahrt-nach-vog
 elsang/?mc_id=4743
METHOD:PUBLISH
END:VEVENT
END:VCALENDAR