BEGIN:VCALENDAR
VERSION:2.0
PRODID:spatie/icalendar-generator
DESCRIPTION:Veranstaltungen von Evangelisch im Maifeld
X-WR-CALDESC:Veranstaltungen von Evangelisch im Maifeld
REFRESH-INTERVAL;VALUE=DURATION:PT1440M
X-PUBLISHED-TTL:PT1440M
BEGIN:VTIMEZONE
TZID:Etc/GMT-1
BEGIN:STANDARD
DTSTART:20240115T170000Z
TZOFFSETFROM:+0100
TZOFFSETTO:+0100
END:STANDARD
END:VTIMEZONE
BEGIN:VTIMEZONE
TZID:UTC
BEGIN:STANDARD
DTSTART:20250729T032558Z
TZOFFSETFROM:+0000
TZOFFSETTO:+0000
END:STANDARD
END:VTIMEZONE
BEGIN:VEVENT
UID:4755-31
DTSTAMP:20260425T032558Z
SUMMARY:Gebete für Frieden und Atomare Abrüstung in Büchel
LOCATION:Friedenswiese Büchel Hippiekreisel  Alflen RLP 56828
ORGANIZER;CN=cs:MAILTO:c.j.schueler@outlook.de
DTSTART;TZID=Etc/GMT-1:20241011T170000
DTEND;TZID=Etc/GMT-1:20241011T180000
X-ALT-DESC;FMTTYPE=TEXT/HTML:<p>Die Andachten auf der Friedenswiese in Büc
 hel finden jeden Freitag der dem 9ten des Monats am nächsten liegt statt.
  In der Sommerzeit um 17:00 Uhr und in der Winterzeit um 16:00 Uhr.</p>\n
CATEGORIES:Friedensarbeit
URL;VALUE=URI:https://www.evkm.org/mc-events/gebete-fuer-frieden-und-atomar
 e-abruestung-in-buechel/
METHOD:PUBLISH
END:VEVENT
END:VCALENDAR