BEGIN:VCALENDAR
VERSION:2.0
PRODID:spatie/icalendar-generator
DESCRIPTION:Veranstaltungen von Evangelisch im Maifeld
X-WR-CALDESC:Veranstaltungen von Evangelisch im Maifeld
REFRESH-INTERVAL;VALUE=DURATION:PT1440M
X-PUBLISHED-TTL:PT1440M
BEGIN:VTIMEZONE
TZID:Etc/GMT-1
BEGIN:STANDARD
DTSTART:20231226T100000Z
TZOFFSETFROM:+0100
TZOFFSETTO:+0100
END:STANDARD
END:VTIMEZONE
BEGIN:VTIMEZONE
TZID:UTC
BEGIN:STANDARD
DTSTART:20250726T111759Z
TZOFFSETFROM:+0000
TZOFFSETTO:+0000
END:STANDARD
END:VTIMEZONE
BEGIN:VEVENT
UID:5509-48
DTSTAMP:20260422T111759Z
SUMMARY:KiBiZ - Kinderbibelzeit
LOCATION:Gemeindezentrum der ev. Kirche im Maifeld Uhlandstr. 9  Polch RLP 
 56751
ORGANIZER;CN=cs:MAILTO:c.j.schueler@outlook.de
RRULE:FREQ=WEEKLY;INTERVAL=2;UNTIL=20241227T000000Z
DTSTART;TZID=Etc/GMT-1:20240921T100000
DTEND;TZID=Etc/GMT-1:20240921T100000
X-ALT-DESC;FMTTYPE=TEXT/HTML:Unsere Kinderbibelzeit für Kinder ab 4 Jahren
  bis 12 Jahre. Von Mitarbeitenden für die Kirchengemeinde. Jeden 2 Samsta
 g außerhalb der Schulferien.
CATEGORIES:Gottesdienste
URL;VALUE=URI:https://www.evkm.org/mc-events/kibiz-kinderbibelzeit/?mc_id=5
 509
METHOD:PUBLISH
END:VEVENT
END:VCALENDAR