BEGIN:VCALENDAR
VERSION:2.0
PRODID:spatie/icalendar-generator
DESCRIPTION:Veranstaltungen von Evangelisch im Maifeld
X-WR-CALDESC:Veranstaltungen von Evangelisch im Maifeld
REFRESH-INTERVAL;VALUE=DURATION:PT1440M
X-PUBLISHED-TTL:PT1440M
BEGIN:VTIMEZONE
TZID:Etc/GMT-1
BEGIN:STANDARD
DTSTART:20240201T100000Z
TZOFFSETFROM:+0100
TZOFFSETTO:+0100
END:STANDARD
END:VTIMEZONE
BEGIN:VTIMEZONE
TZID:UTC
BEGIN:STANDARD
DTSTART:20250726T095142Z
TZOFFSETFROM:+0000
TZOFFSETTO:+0000
END:STANDARD
END:VTIMEZONE
BEGIN:VEVENT
UID:5520-52
DTSTAMP:20260422T095142Z
SUMMARY:Rückbildungskurs
LOCATION:Gemeindezentrum der ev. Kirche im Maifeld Uhlandstr. 9  Polch RLP 
 56751
ORGANIZER;CN=Isabel Schönig:MAILTO:Schoenig-I@caritas-rma.de
RRULE:FREQ=WEEKLY;UNTIL=20241217T000000Z
DTSTART;TZID=Etc/GMT-1:20241028T100000
DTEND;TZID=Etc/GMT-1:20241028T111500
X-ALT-DESC;FMTTYPE=TEXT/HTML:Der 8teilige Rückbildungskurs beschäftigt si
 ch mit der Kräftigung der Muskulatur\, des Halteapparates und der Stärku
 ng des Beckenbodens\, welche sich durch Schwangerschaft und Geburt veränd
 ert haben. Die Kursinhalte sindaufeinander aufgebaut. Achtmal finden die 7
 5minütigen Übungen immer montags außerhalb der Ferien im Evangelischen 
 Gemeindezentrum in Polch\, Uhlandstraße 9\, statt. Leitung und Anmeldung:
  Susanne Fierke\, Hebamme\, Tel. (01&amp;hellip\;
CATEGORIES:Frühe Hilfen
URL;VALUE=URI:https://www.evkm.org/mc-events/rueckbildungskurs/?mc_id=5520
METHOD:PUBLISH
END:VEVENT
END:VCALENDAR