BEGIN:VCALENDAR
VERSION:2.0
PRODID:spatie/icalendar-generator
DESCRIPTION:Veranstaltungen von Evangelisch im Maifeld
X-WR-CALDESC:Veranstaltungen von Evangelisch im Maifeld
REFRESH-INTERVAL;VALUE=DURATION:PT1440M
X-PUBLISHED-TTL:PT1440M
BEGIN:VTIMEZONE
TZID:Etc/GMT-1
BEGIN:STANDARD
DTSTART:20231225T183000Z
TZOFFSETFROM:+0100
TZOFFSETTO:+0100
END:STANDARD
END:VTIMEZONE
BEGIN:VTIMEZONE
TZID:UTC
BEGIN:STANDARD
DTSTART:20250726T095008Z
TZOFFSETFROM:+0000
TZOFFSETTO:+0000
END:STANDARD
END:VTIMEZONE
BEGIN:VEVENT
UID:5594-59
DTSTAMP:20260422T095008Z
SUMMARY:Stillen – ein guter Start ins Leben
LOCATION:Gemeindezentrum der ev. Kirche im Maifeld Uhlandstr. 9  Polch RLP 
 56751
ORGANIZER;CN=Isabel Schönig:MAILTO:Schoenig-I@caritas-rma.de
DTSTART;TZID=Etc/GMT-1:20240920T183000
DTEND;TZID=Etc/GMT-1:20240920T193000
X-ALT-DESC;FMTTYPE=TEXT/HTML:Stillen – ein guter Start ins Leben Das Stil
 len ist ein natürlicher und wichtiger Bestandteil des Lebens eines Neugeb
 orenen. Die Fachstelle Frühe Hilfen lädt zu einem Infoabend „Erfolgrei
 ch Stillen“ am Freitag\, 20.09.2024 um 18:30 Uhr ins Ev. Gemeindezentrum
  Polch\, Uhlandstraße 9\, ein. Frau Sara Karl (Ärztin) wird den Abend ge
 stalten. An diesem Abend werden wissenschaftlich&amp;hellip\;
CATEGORIES:Frühe Hilfen
URL;VALUE=URI:https://www.evkm.org/mc-events/stillen-ein-guter-start-ins-le
 ben/
METHOD:PUBLISH
END:VEVENT
END:VCALENDAR