BEGIN:VCALENDAR
VERSION:2.0
PRODID:spatie/icalendar-generator
DESCRIPTION:Veranstaltungen von Evangelisch im Maifeld
X-WR-CALDESC:Veranstaltungen von Evangelisch im Maifeld
REFRESH-INTERVAL;VALUE=DURATION:PT1440M
X-PUBLISHED-TTL:PT1440M
BEGIN:VTIMEZONE
TZID:Etc/GMT-1
BEGIN:STANDARD
DTSTART:20260329T223000Z
TZOFFSETFROM:+0100
TZOFFSETTO:+0100
END:STANDARD
END:VTIMEZONE
BEGIN:VTIMEZONE
TZID:UTC
BEGIN:STANDARD
DTSTART:20250726T105735Z
TZOFFSETFROM:+0000
TZOFFSETTO:+0000
END:STANDARD
END:VTIMEZONE
BEGIN:VEVENT
UID:5654-69
DTSTAMP:20260422T105735Z
SUMMARY:Christmette
LOCATION:Gemeindezentrum der ev. Kirche im Maifeld Uhlandstr. 9  Polch RLP 
 56751
ORGANIZER;CN=cs:MAILTO:c.j.schueler@outlook.de
RRULE:FREQ=YEARLY;BYMONTH=12;BYDAY=24;UNTIL=20301231T000000Z
DTSTART;TZID=Etc/GMT-1:20261224T223000
DTEND;TZID=Etc/GMT-1:20261225T000000
X-ALT-DESC;FMTTYPE=TEXT/HTML:um 22.30 feiern wir unsere Christmette\, danac
 h ist es gute Tradition\, als Gemeinde Weihnachten zu feiern\, zu essen\, 
 zu trinken …
CATEGORIES:Gottesdienste
URL;VALUE=URI:https://www.evkm.org/mc-events/christmette/?mc_id=5654
METHOD:PUBLISH
END:VEVENT
END:VCALENDAR