BEGIN:VCALENDAR
VERSION:2.0
PRODID:spatie/icalendar-generator
DESCRIPTION:Veranstaltungen von Evangelisch im Maifeld
X-WR-CALDESC:Veranstaltungen von Evangelisch im Maifeld
REFRESH-INTERVAL;VALUE=DURATION:PT1440M
X-PUBLISHED-TTL:PT1440M
BEGIN:VTIMEZONE
TZID:Etc/GMT-1
BEGIN:STANDARD
DTSTART:20240610T154000Z
TZOFFSETFROM:+0100
TZOFFSETTO:+0100
END:STANDARD
END:VTIMEZONE
BEGIN:VTIMEZONE
TZID:UTC
BEGIN:STANDARD
DTSTART:20250728T131312Z
TZOFFSETFROM:+0000
TZOFFSETTO:+0000
END:STANDARD
END:VTIMEZONE
BEGIN:VEVENT
UID:5755-95
DTSTAMP:20260424T131312Z
SUMMARY:Friedensgebete in Büchel
LOCATION:Friedenswiese Büchel Hippiekreisel  Alflen RLP 56828
ORGANIZER;CN=cs:MAILTO:c.j.schueler@outlook.de
DTSTART;TZID=Etc/GMT-1:20250307T154000
DTEND;TZID=Etc/GMT-1:20250307T164000
X-ALT-DESC;FMTTYPE=TEXT/HTML:
CATEGORIES:Friedensarbeit
URL;VALUE=URI:https://www.evkm.org/mc-events/friedensgebete-in-buechel-3/
METHOD:PUBLISH
END:VEVENT
END:VCALENDAR