BEGIN:VCALENDAR
VERSION:2.0
PRODID:spatie/icalendar-generator
DESCRIPTION:Veranstaltungen von Evangelisch im Maifeld
X-WR-CALDESC:Veranstaltungen von Evangelisch im Maifeld
REFRESH-INTERVAL;VALUE=DURATION:PT1440M
X-PUBLISHED-TTL:PT1440M
BEGIN:VTIMEZONE
TZID:Etc/GMT-1
BEGIN:STANDARD
DTSTART:20240710T170000Z
TZOFFSETFROM:+0100
TZOFFSETTO:+0100
END:STANDARD
END:VTIMEZONE
BEGIN:VTIMEZONE
TZID:UTC
BEGIN:STANDARD
DTSTART:20250726T095049Z
TZOFFSETFROM:+0000
TZOFFSETTO:+0000
END:STANDARD
END:VTIMEZONE
BEGIN:VEVENT
UID:6197-101
DTSTAMP:20260422T095049Z
SUMMARY:Klaus der Geiger
LOCATION:
ORGANIZER;CN=cs:MAILTO:c.j.schueler@outlook.de
DTSTART;TZID=Etc/GMT-1:20250406T170000
DTEND;TZID=Etc/GMT-1:20250406T190000
X-ALT-DESC;FMTTYPE=TEXT/HTML:<p>85 Jahre Klaus der Geiger<br />\nKlaus der 
 Geiger ist Deutschlands bekanntester Straßenmusiker. Er ist mittlerweile 
 85 Jahre und und hat immer noch viel zu Erzählen</p>\n
CATEGORIES:Konzerte
URL;VALUE=URI:https://www.evkm.org/mc-events/klaus-der-geiger/
METHOD:PUBLISH
END:VEVENT
END:VCALENDAR