BEGIN:VCALENDAR
VERSION:2.0
PRODID:spatie/icalendar-generator
DESCRIPTION:Veranstaltungen von Evangelisch im Maifeld
X-WR-CALDESC:Veranstaltungen von Evangelisch im Maifeld
REFRESH-INTERVAL;VALUE=DURATION:PT1440M
X-PUBLISHED-TTL:PT1440M
BEGIN:VTIMEZONE
TZID:Etc/GMT-1
BEGIN:STANDARD
DTSTART:20230619T180000Z
TZOFFSETFROM:+0100
TZOFFSETTO:+0100
END:STANDARD
END:VTIMEZONE
BEGIN:VTIMEZONE
TZID:UTC
BEGIN:STANDARD
DTSTART:20250726T135113Z
TZOFFSETFROM:+0000
TZOFFSETTO:+0000
END:STANDARD
END:VTIMEZONE
BEGIN:VEVENT
UID:6204-8
DTSTAMP:20260422T135113Z
SUMMARY:Polch am Brett
LOCATION:Gemeindezentrum der ev. Kirche im Maifeld Uhlandstr. 9  Polch RLP 
 56751
ORGANIZER;CN=cs:MAILTO:c.j.schueler@outlook.de
RRULE:FREQ=WEEKLY;INTERVAL=2;UNTIL=20260531T000000Z
DTSTART;TZID=Etc/GMT-1:20240315T180000
DTEND;TZID=Etc/GMT-1:20240315T235900
X-ALT-DESC;FMTTYPE=TEXT/HTML:Alle zwei Wochen treffen wir uns zu gemeinsame
 n Brettspielabenden. In den ungeraden Wochen Freitags ab 18:00 Uhr. Gespie
 lt wird alles was Spaß macht. Einsteigefreundliches bis zu den tollsten K
 ennerspielen ist immer etwas für jeden dabei. &amp;nbsp\;
CATEGORIES:Brettspiele
URL;VALUE=URI:https://www.evkm.org/mc-events/polch-am-brett/?mc_id=6204
METHOD:PUBLISH
END:VEVENT
END:VCALENDAR