BEGIN:VCALENDAR
VERSION:2.0
PRODID:spatie/icalendar-generator
DESCRIPTION:Veranstaltungen von Evangelisch im Maifeld
X-WR-CALDESC:Veranstaltungen von Evangelisch im Maifeld
REFRESH-INTERVAL;VALUE=DURATION:PT1440M
X-PUBLISHED-TTL:PT1440M
BEGIN:VTIMEZONE
TZID:Etc/GMT-1
BEGIN:STANDARD
DTSTART:20240405T180000Z
TZOFFSETFROM:+0100
TZOFFSETTO:+0100
END:STANDARD
END:VTIMEZONE
BEGIN:VTIMEZONE
TZID:UTC
BEGIN:STANDARD
DTSTART:20250726T082813Z
TZOFFSETFROM:+0000
TZOFFSETTO:+0000
END:STANDARD
END:VTIMEZONE
BEGIN:VEVENT
UID:5659-82
DTSTAMP:20260422T082813Z
SUMMARY:Silvestergottesdienst
LOCATION:Gemeindezentrum der ev. Kirche im Maifeld Uhlandstr. 9  Polch RLP 
 56751
ORGANIZER;CN=cs:MAILTO:c.j.schueler@outlook.de
DTSTART;TZID=Etc/GMT-1:20241231T180000
DTEND;TZID=Etc/GMT-1:20241231T190000
X-ALT-DESC;FMTTYPE=TEXT/HTML:Wie jedes Jahr findet Silvester ein Meditation
 sgottesdienst zusammen mit dem Flötenensemble \"viva la musica\" statt
CATEGORIES:Gottesdienste
URL;VALUE=URI:https://www.evkm.org/mc-events/silvestergottesdienst-3/
METHOD:PUBLISH
END:VEVENT
END:VCALENDAR