BEGIN:VCALENDAR
VERSION:2.0
PRODID:spatie/icalendar-generator
DESCRIPTION:Veranstaltungen von Evangelisch im Maifeld
X-WR-CALDESC:Veranstaltungen von Evangelisch im Maifeld
REFRESH-INTERVAL;VALUE=DURATION:PT1440M
X-PUBLISHED-TTL:PT1440M
BEGIN:VTIMEZONE
TZID:Etc/GMT-1
BEGIN:STANDARD
DTSTART:20240713T193000Z
TZOFFSETFROM:+0100
TZOFFSETTO:+0100
END:STANDARD
END:VTIMEZONE
BEGIN:VTIMEZONE
TZID:UTC
BEGIN:STANDARD
DTSTART:20250726T082828Z
TZOFFSETFROM:+0000
TZOFFSETTO:+0000
END:STANDARD
END:VTIMEZONE
BEGIN:VEVENT
UID:6195-100
DTSTAMP:20260422T082828Z
SUMMARY:Woche der offenen Maifeld Chöre
LOCATION:
ORGANIZER;CN=cs:MAILTO:c.j.schueler@outlook.de
DTSTART;TZID=Etc/GMT-1:20250409T193000
DTEND;TZID=Etc/GMT-1:20250409T213000
X-ALT-DESC;FMTTYPE=TEXT/HTML:<p>Woche der offenen Maifeld Chöre<br />\nEin
 ladung zur offenen Chorprobe</p>\n
CATEGORIES:Kirchenmusik
URL;VALUE=URI:https://www.evkm.org/mc-events/woche-der-offenen-maifeld-choe
 re/
METHOD:PUBLISH
END:VEVENT
END:VCALENDAR