BEGIN:VCALENDAR
VERSION:2.0
PRODID:spatie/icalendar-generator
DESCRIPTION:Veranstaltungen von Evangelisch im Maifeld
X-WR-CALDESC:Veranstaltungen von Evangelisch im Maifeld
REFRESH-INTERVAL;VALUE=DURATION:PT1440M
X-PUBLISHED-TTL:PT1440M
BEGIN:VTIMEZONE
TZID:Etc/GMT-1
BEGIN:STANDARD
DTSTART:20250623T060000Z
TZOFFSETFROM:+0100
TZOFFSETTO:+0100
END:STANDARD
END:VTIMEZONE
BEGIN:VTIMEZONE
TZID:UTC
BEGIN:STANDARD
DTSTART:20250726T082633Z
TZOFFSETFROM:+0000
TZOFFSETTO:+0000
END:STANDARD
END:VTIMEZONE
BEGIN:VEVENT
UID:7735-138
DTSTAMP:20260422T082633Z
SUMMARY:Ökumenische Frühschicht
LOCATION:
ORGANIZER;CN=Kathrin Seul:MAILTO:kathrin.seul@ekir.de
RRULE:FREQ=WEEKLY;UNTIL=20260403T000000Z
DTSTART;TZID=Etc/GMT-1:20260320T060000
DTEND;TZID=Etc/GMT-1:20260320T080000
X-ALT-DESC;FMTTYPE=TEXT/HTML:anschließend gemeinsames Frühstück
CATEGORIES:Gottesdienste
URL;VALUE=URI:https://www.evkm.org/mc-events/oekumenische-fruehschicht/?mc_
 id=7735
METHOD:PUBLISH
END:VEVENT
END:VCALENDAR