BEGIN:VCALENDAR
VERSION:2.0
PRODID:spatie/icalendar-generator
DESCRIPTION:Veranstaltungen von Evangelisch im Maifeld
X-WR-CALDESC:Veranstaltungen von Evangelisch im Maifeld
REFRESH-INTERVAL;VALUE=DURATION:PT1440M
X-PUBLISHED-TTL:PT1440M
BEGIN:VTIMEZONE
TZID:Etc/GMT-1
BEGIN:STANDARD
DTSTART:20250529T190000Z
TZOFFSETFROM:+0100
TZOFFSETTO:+0100
END:STANDARD
END:VTIMEZONE
BEGIN:VTIMEZONE
TZID:UTC
BEGIN:STANDARD
DTSTART:20250728T203906Z
TZOFFSETFROM:+0000
TZOFFSETTO:+0000
END:STANDARD
END:VTIMEZONE
BEGIN:VEVENT
UID:7739-142
DTSTAMP:20260424T203906Z
SUMMARY:Psalmen lesen und verstehen
LOCATION:
ORGANIZER;CN=Kathrin Seul:MAILTO:kathrin.seul@ekir.de
DTSTART;TZID=Etc/GMT-1:20260223T190000
DTEND;TZID=Etc/GMT-1:20260223T200000
X-ALT-DESC;FMTTYPE=TEXT/HTML:Trotz alledem - Gesänge im Widerstand.
CATEGORIES:Gruppen
URL;VALUE=URI:https://www.evkm.org/mc-events/psalmen-lesen-und-verstehen-3/
METHOD:PUBLISH
END:VEVENT
END:VCALENDAR