BEGIN:VCALENDAR
VERSION:2.0
PRODID:spatie/icalendar-generator
DESCRIPTION:Veranstaltungen von Evangelisch im Maifeld
X-WR-CALDESC:Veranstaltungen von Evangelisch im Maifeld
REFRESH-INTERVAL;VALUE=DURATION:PT1440M
X-PUBLISHED-TTL:PT1440M
BEGIN:VTIMEZONE
TZID:Etc/GMT-1
BEGIN:STANDARD
DTSTART:20251223T140000Z
TZOFFSETFROM:+0100
TZOFFSETTO:+0100
END:STANDARD
END:VTIMEZONE
BEGIN:VTIMEZONE
TZID:UTC
BEGIN:STANDARD
DTSTART:20250728T141203Z
TZOFFSETFROM:+0000
TZOFFSETTO:+0000
END:STANDARD
END:VTIMEZONE
BEGIN:VEVENT
UID:7747-148
DTSTAMP:20260424T141203Z
SUMMARY:Polch am Brett lädt ein zur Stadt- Land- spielt!
LOCATION:
ORGANIZER;CN=Kathrin Seul:MAILTO:kathrin.seul@ekir.de
DTSTART;TZID=Etc/GMT-1:20260919T140000
DTEND;TZID=Etc/GMT-1:20260919T180000
X-ALT-DESC;FMTTYPE=TEXT/HTML:Stadt-Land-Spielt! ist ein Projekt zur Förder
 ung des Kulturguts Spiel
CATEGORIES:Brettspiele
URL;VALUE=URI:https://www.evkm.org/mc-events/polch-am-brett-laedt-ein-zur-s
 tadt-land-spielt/
METHOD:PUBLISH
END:VEVENT
END:VCALENDAR